BEGIN:VCALENDAR
VERSION:2.0
PRODID:gruene-bremen.de
METHOD:PUBLISH
BEGIN:VTIMEZONE
TZID:Europe/Berlin
X-LIC-LOCATION:Europe/Berlin
BEGIN:DAYLIGHT
TZOFFSETFROM:+0100
TZOFFSETTO:+0200
TZNAME:CEST
DTSTART:19700329T020000
RRULE:FREQ=YEARLY;INTERVAL=1;BYDAY=-1SU;BYMONTH=3
END:DAYLIGHT
BEGIN:STANDARD
TZOFFSETFROM:+0200
TZOFFSETTO:+0100
TZNAME:CET
DTSTART:19701025T030000
RRULE:FREQ=YEARLY;INTERVAL=1;BYDAY=-1SU;BYMONTH=10
END:STANDARD
END:VTIMEZONE
BEGIN:VEVENT
UID:577ca8a82f28e7aba034c1b4fb48169d@gruene-bremen.de
URL;VALUE=URI:https://gruene-bremen.de/termine/ldk-strukturen-schluessel-
 beteiligung/
LOCATION:Saal der Arbeitnehmerkammer Bremen, Bürgerstr.1, 28195 Bremen
SUMMARY:LDK: Strukturen, Schlüssel, Beteiligung
DESCRIPTION;ALTREP="data:text/html,%0A%3Cp%3EIn%20den%20vergangenen%20zwe
 i%20Jahren%20hat%20die%20Strukturkommission%20verschiedene%20Vorschl%C3%A
 4ge%20f%C3%BCr%20unseren%20Landesverband%20erarbeitet%20und%20diese%20den
 %20Kreisverb%C3%A4nden%20vorgestellt.%20Hier%20m%C3%B6chten%20wir%20nun%2
 0konkretisieren%20und%20gemeinsam%20mit%20euch%20in%20eine%20Reihe%20von%
 20Beteiligungsformaten%20starten%3A%3C%2Fp%3E%0A%0A%0A%0A%3Cp%3EIm%20Rahm
 en%20einer%20mitglieder%C3%B6ffentlichen%20Veranstaltung%20m%C3%B6chten%2
 0wir%20gemeinsam%20die%20M%C3%B6glichkeiten%20zur%20Einf%C3%BChrung%20ein
 er%20Landesdelegiertenkonferenz%20diskutieren%20und%20unterschiedliche%20
 Aspekte%20sowie%20offene%20Fragen%20beleuchten.%3C%2Fp%3E%0A%0A%0A%0A%3Cp
 %3EEin%20besonderer%20Schwerpunkt%20liegt%20dabei%20auf%20folgenden%20Asp
 ekten%3A%3C%2Fp%3E%0A%0A%0A%0A%3Cul%20class%3D%22wp-block-list%22%3E%0A%3
 Cli%3EDelegiertenschl%C3%BCssel%3C%2Fli%3E%0A%0A%0A%0A%3Cli%3ERolle%20der
 %20Stadtteilgruppen%3C%2Fli%3E%0A%0A%0A%0A%3Cli%3EDauer%20der%20Delegatio
 n%3C%2Fli%3E%0A%0A%0A%0A%3Cli%3EAktualisierung%20des%20Delegiertenschl%C3
 %BCssels%3C%2Fli%3E%0A%0A%0A%0A%3Cli%3EBeschlussf%C3%A4higkeitsquorum%3C%
 2Fli%3E%0A%0A%0A%0A%3Cli%3EQuote%20f%C3%BCr%20die%20Gr%C3%BCne%20Jugend%3
 C%2Fli%3E%0A%3C%2Ful%3E%0A%0A%0A%0A%3Cp%3EBei%20den%20Spannweite%20der%20
 Veranstaltung%20wollen%20wir%20diese%20als%20%3Cstrong%3EWorld-Caf%C3%A9%
 3C%2Fstrong%3E%20konzipieren.%3C%2Fp%3E%0A%0A%0A%0A%3Cp%3EAn%20mehreren%2
 0%3Cstrong%3EThementischen%3C%2Fstrong%3E%20werden%20die%20genannten%20As
 pekte%20parallel%20bearbeitet.%3C%2Fp%3E%0A%0A%0A%0A%3Cp%3EDie%20Teilnehm
 enden%20haben%20die%20M%C3%B6glichkeit%2C%20zwischen%20den%20Tischen%20zu
 %20wechseln%2C%20sich%20einzubringen%2C%20unterschiedliche%20Perspektiven
 %20kennenzulernen%20und%20gemeinsam%20erste%20Einsch%C3%A4tzungen%20und%2
 0Ans%C3%A4tze%20zu%20entwickeln.%3C%2Fp%3E%0A%0A%0A%0A%3Cp%3EDie%20Verans
 taltung%20ist%20%3Cstrong%3Emitglieder%C3%B6ffentlich%3C%2Fstrong%3E%20un
 d%20wir%20freuen%20uns%20%C3%BCber%20Anmeldungen%20unter%3A%3C%2Fp%3E%0A%
 0A%0A":In den vergangenen zwei Jahren hat die Strukturkommission verschie
 dene Vorschläge für unseren Landesverband erarbeitet und diese den Krei
 sverbänden vorgestellt. Hier möchten wir nun konkretisieren und gemeins
 am mit euch in eine Reihe von Beteiligungsformaten starten:\n\nIm Rahmen 
 einer mitgliederöffentlichen Veranstaltung möchten wir gemeinsam die M
 öglichkeiten zur Einführung einer Landesdelegiertenkonferenz diskutiere
 n und unterschiedliche Aspekte sowie offene Fragen beleuchten.\n\nEin bes
 onderer Schwerpunkt liegt dabei auf folgenden Aspekten:\n\nDelegiertensch
 lüssel\n\nRolle der Stadtteilgruppen\n\nDauer der Delegation\n\nAktualis
 ierung des Delegiertenschlüssels\n\nBeschlussfähigkeitsquorum\n\nQuote 
 für die Grüne Jugend\n\nBei den Spannweite der Veranstaltung wollen wir
  diese als World-Café konzipieren.\n\nAn mehreren Thementischen werden d
 ie genannten Aspekte parallel bearbeitet.\n\nDie Teilnehmenden haben die 
 Möglichkeit\, zwischen den Tischen zu wechseln\, sich einzubringen\, unt
 erschiedliche Perspektiven kennenzulernen und gemeinsam erste Einschätzu
 ngen und Ansätze zu entwickeln.\n\nDie Veranstaltung ist mitgliederöffe
 ntlich und wir freuen uns über Anmeldungen unter:
CLASS:PUBLIC
DTSTART;TZID=Europe/Berlin:20260127T190000
DTEND;TZID=Europe/Berlin:20260127T210000
DTSTAMP:20260421T065652
END:VEVENT
END:VCALENDAR