BEGIN:VCALENDAR
VERSION:2.0
PRODID:gruene-bremen.de
METHOD:PUBLISH
BEGIN:VTIMEZONE
TZID:Europe/Berlin
X-LIC-LOCATION:Europe/Berlin
BEGIN:DAYLIGHT
TZOFFSETFROM:+0100
TZOFFSETTO:+0200
TZNAME:CEST
DTSTART:19700329T020000
RRULE:FREQ=YEARLY;INTERVAL=1;BYDAY=-1SU;BYMONTH=3
END:DAYLIGHT
BEGIN:STANDARD
TZOFFSETFROM:+0200
TZOFFSETTO:+0100
TZNAME:CET
DTSTART:19701025T030000
RRULE:FREQ=YEARLY;INTERVAL=1;BYDAY=-1SU;BYMONTH=10
END:STANDARD
END:VTIMEZONE
BEGIN:VEVENT
UID:055ba8255770dd95d5f1dcdfe7f65b31@gruene-bremen.de
URL;VALUE=URI:https://gruene-bremen.de/termine/ldk-fragen-und-antworten-z
 um-antrag-des-landesvorstands/
LOCATION:Digital
SUMMARY:LDK: Fragen und Antworten zum Antrag des Landesvorstands
DESCRIPTION;ALTREP="data:text/html,%0A%3Cp%3ENach%20der%20Arbeit%20der%20
 Strukturkommission%20in%20den%20vergangen%20zwei%20Jahren%20und%20mehrere
 n%20Diskussionsformaten%20in%20diesem%20Rahmen%20hat%20der%20Landesvorsta
 nd%20einen%20Vorschlag%20f%C3%BCr%20einen%20Antrag%20zur%20Einf%C3%BChrun
 g%20einer%20Landesdelegiertenkonferenz%20%28LDK%29%20erarbeitet.%3C%2Fp%3
 E%0A%0A%0A%0A%3Cp%3EIm%20Verlauf%20der%20letzten%20Wochen%20gab%20es%20da
 zu%20bereits%20drei%20Beteiligungsverfahren%20mit%20Kreisvorst%C3%A4nden%
 2C%20dem%20Vorstand%20der%20Gr%C3%BCnen%20Jugend%20und%20Mitgliedern.%20D
 as%20Feedback%20der%20Mitgliedschaft%20in%20diesen%20Veranstaltungen%20fi
 ndet%20sich%20zum%20Teil%20im%20Satzungs%C3%A4nderungsantrag%20wieder.%3C
 %2Fp%3E%0A%0A%0A%0A%3Cp%3ENun%20wollen%20wir%20auch%20zum%20jetzt%20vorli
 egenden%20Antrag%20mit%20euch%20in%20den%20Austausch%20gehen%20und%20eure
 %20Fragen%20beantworten.%20Bis%20zur%20%C3%84nderungsantragsfrist%20am%20
 18.02.%20gibt%20es%20auch%20nat%C3%BCrlich%20auch%20weiterhin%20die%20M%C
 3%B6glichkeit%2C%20Vorschl%C3%A4ge%20aufzunehmen%20und%20einzubringen.%3C
 %2Fp%3E%0A%0A%0A%0A%3Cp%3EDie%20Veranstaltung%20ist%20mitglieder%C3%B6ffe
 ntlich%20und%20wird%20digital%20stattfinden.%20Den%20Link%20zur%20Teilnah
 me%20verschicken%20wir%20an%20alle%20angemeldeten%20Mitglieder%20vor%20Be
 ginn%20der%20Veranstaltung.%3C%2Fp%3E%0A%0A%0A%0A%3Cp%3EDen%20Antrag%20fi
 ndet%20ihr%20unter%3A%20%3Ca%20href%3D%22https%3A%2F%2Fopenslides.gruene.
 de%2F61%2Fmotions%2F123%22%3Ehttps%3A%2F%2Fopenslides.gruene.de%2F61%2Fmo
 tions%2F123%3C%2Fa%3E%3C%2Fp%3E%0A%0A%0A%0A%3Cp%3EUnd%20hier%20k%C3%B6nnt
 %20ihr%20euch%20anmelden%3A%3C%2Fp%3E%0A%0A%0A":Nach der Arbeit der Struk
 turkommission in den vergangen zwei Jahren und mehreren Diskussionsformat
 en in diesem Rahmen hat der Landesvorstand einen Vorschlag für einen Ant
 rag zur Einführung einer Landesdelegiertenkonferenz (LDK) erarbeitet.\n\
 nIm Verlauf der letzten Wochen gab es dazu bereits drei Beteiligungsverfa
 hren mit Kreisvorständen\, dem Vorstand der Grünen Jugend und Mitgliede
 rn. Das Feedback der Mitgliedschaft in diesen Veranstaltungen findet sich
  zum Teil im Satzungsänderungsantrag wieder.\n\nNun wollen wir auch zum 
 jetzt vorliegenden Antrag mit euch in den Austausch gehen und eure Fragen
  beantworten. Bis zur Änderungsantragsfrist am 18.02. gibt es auch natü
 rlich auch weiterhin die Möglichkeit\, Vorschläge aufzunehmen und einzu
 bringen.\n\nDie Veranstaltung ist mitgliederöffentlich und wird digital 
 stattfinden. Den Link zur Teilnahme verschicken wir an alle angemeldeten 
 Mitglieder vor Beginn der Veranstaltung.\n\nDen Antrag findet ihr unter: 
 https://openslides.gruene.de/61/motions/123\n\nUnd hier könnt ihr euch a
 nmelden:
CLASS:PUBLIC
DTSTART;TZID=Europe/Berlin:20260211T180000
DTEND;TZID=Europe/Berlin:20260211T200000
DTSTAMP:20260421T070020
END:VEVENT
END:VCALENDAR