BEGIN:VCALENDAR
VERSION:2.0
PRODID:gruene-bremen.de
METHOD:PUBLISH
BEGIN:VTIMEZONE
TZID:Europe/Berlin
X-LIC-LOCATION:Europe/Berlin
BEGIN:DAYLIGHT
TZOFFSETFROM:+0100
TZOFFSETTO:+0200
TZNAME:CEST
DTSTART:19700329T020000
RRULE:FREQ=YEARLY;INTERVAL=1;BYDAY=-1SU;BYMONTH=3
END:DAYLIGHT
BEGIN:STANDARD
TZOFFSETFROM:+0200
TZOFFSETTO:+0100
TZNAME:CET
DTSTART:19701025T030000
RRULE:FREQ=YEARLY;INTERVAL=1;BYDAY=-1SU;BYMONTH=10
END:STANDARD
END:VTIMEZONE
BEGIN:VEVENT
UID:a968ab3154f917229afd7b3e4ea0d7fe@gruene-bremen.de
URL;VALUE=URI:https://gruene-bremen.de/termine/lag-soziales-arbeit-2/
LOCATION:digital
SUMMARY:LAG Soziales & Arbeit
DESCRIPTION;ALTREP="data:text/html,%3Cp%3EWelche%20sozial-%20und%2Foder%2
 0arbeitspolitischen%20Themen%20d%C3%BCrfen%20nicht%20auf%20unserem%20Somm
 erfest%20im%20Juni%20fehlen%3F%20Das%20besprechen%20wir%20in%20dieser%20S
 itzung.%20Komm%20gerne%20dazu%3A%20https%3A%2F%2Feu02web.zoom-x.de%2Fj%2F
 65331620344%3Fpwd%3DgnsHvQZXHDuBDcJ4C6cpBCJrTF0luK.1%20%3Cbr%20%2F%3E%0A%
 3Cbr%20%2F%3E%0AAnsprechpartner%2Ainnen%3Cbr%20%2F%3E%0A%3Cbr%20%2F%3E%0A
 Vanessa%20Radtke%20%28vanessa.radtke-gruene%28at%29mailbox.org%29%2C%20Ra
 lf%20Bohr%20%28ralf.bohr%28at%29gmx.net%29%3C%2Fp%3E":Welche sozial- und/
 oder arbeitspolitischen Themen dürfen nicht auf unserem Sommerfest im Ju
 ni fehlen? Das besprechen wir in dieser Sitzung. Komm gerne dazu: https:/
 /eu02web.zoom-x.de/j/65331620344?pwd=gnsHvQZXHDuBDcJ4C6cpBCJrTF0luK.1\n\n
 Ansprechpartner*innen\n\nVanessa Radtke (vanessa.radtke-gruene(at)mailbox
 .org)\, Ralf Bohr (ralf.bohr(at)gmx.net)
CLASS:PUBLIC
DTSTART;TZID=Europe/Berlin:20260427T190000
DTEND;TZID=Europe/Berlin:20260427T210000
DTSTAMP:20260424T135039
END:VEVENT
END:VCALENDAR