BEGIN:VCALENDAR
VERSION:2.0
PRODID:gruene-bremen.de
METHOD:PUBLISH
BEGIN:VTIMEZONE
TZID:Europe/Berlin
X-LIC-LOCATION:Europe/Berlin
BEGIN:DAYLIGHT
TZOFFSETFROM:+0100
TZOFFSETTO:+0200
TZNAME:CEST
DTSTART:19700329T020000
RRULE:FREQ=YEARLY;INTERVAL=1;BYDAY=-1SU;BYMONTH=3
END:DAYLIGHT
BEGIN:STANDARD
TZOFFSETFROM:+0200
TZOFFSETTO:+0100
TZNAME:CET
DTSTART:19701025T030000
RRULE:FREQ=YEARLY;INTERVAL=1;BYDAY=-1SU;BYMONTH=10
END:STANDARD
END:VTIMEZONE
BEGIN:VEVENT
UID:58fc9a1610bbd0a1f2225c39e565c91c@gruene-bremen.de
URL;VALUE=URI:https://gruene-bremen.de/termine/lag-queer/
LOCATION:Grüne Landesgeschäftsstelle/hybrid
SUMMARY:LAG Queer
DESCRIPTION;ALTREP="data:text/html,%3Cp%3ETagesordnung%3A%3Cbr%20%2F%3E%0
 A%3Cbr%20%2F%3E%0A1.%20Aktuelles%20aus%20den%20BAGen%3Cbr%20%2F%3E%0A2.%2
 0Aktuelles%20aus%20dem%20Diversit%C3%A4tsrat%20%3Cbr%20%2F%3E%0A3.%20Aktu
 elles%20aus%20dem%20Land%20Bremen%20%28Anstieg%20der%20queerfeindlichen%2
 0%C3%9Cbergriffe%20um%20130%25%29%3Cbr%20%2F%3E%0A4.%20R%C3%BCckblick%20A
 ntrag%20Landesmitgliederversammlung%20%3Cbr%20%2F%3E%0A5.%20Bildung%20zu%
 20Arbeitsgruppen%20f%C3%BCr%20spezielle%20Themen%20%3Cbr%20%2F%3E%0A6.%20
 IDAHOBITA%2A%202026%3Cbr%20%2F%3E%0A%3Cbr%20%2F%3E%0AAnsprechpartner%2Ain
 nen%3Cbr%20%2F%3E%0A%3Cbr%20%2F%3E%0ABettina%20Tottleben%20%28tottleben.b
 ettina%28at%29gmail.com%29%2C%20Lukas%20Brennecke%20%28lukasbrenneckegr%2
 8at%29gmail.com%29%3C%2Fp%3E":Tagesordnung:\n\n1. Aktuelles aus den BAGen
 \n\n2. Aktuelles aus dem Diversitätsrat\n\n3. Aktuelles aus dem Land Bre
 men (Anstieg der queerfeindlichen Übergriffe um 130%)\n\n4. Rückblick A
 ntrag Landesmitgliederversammlung\n\n5. Bildung zu Arbeitsgruppen für sp
 ezielle Themen\n\n6. IDAHOBITA* 2026\n\nAnsprechpartner*innen\n\nBettina 
 Tottleben (tottleben.bettina(at)gmail.com)\, Lukas Brennecke (lukasbrenne
 ckegr(at)gmail.com)
CLASS:PUBLIC
DTSTART;TZID=Europe/Berlin:20260519T190000
DTEND;TZID=Europe/Berlin:20260519T210000
DTSTAMP:20260424T233239
END:VEVENT
END:VCALENDAR