BEGIN:VCALENDAR
VERSION:2.0
PRODID:gruene-bremen.de
METHOD:PUBLISH
BEGIN:VTIMEZONE
TZID:Europe/Berlin
X-LIC-LOCATION:Europe/Berlin
BEGIN:DAYLIGHT
TZOFFSETFROM:+0100
TZOFFSETTO:+0200
TZNAME:CEST
DTSTART:19700329T020000
RRULE:FREQ=YEARLY;INTERVAL=1;BYDAY=-1SU;BYMONTH=3
END:DAYLIGHT
BEGIN:STANDARD
TZOFFSETFROM:+0200
TZOFFSETTO:+0100
TZNAME:CET
DTSTART:19701025T030000
RRULE:FREQ=YEARLY;INTERVAL=1;BYDAY=-1SU;BYMONTH=10
END:STANDARD
END:VTIMEZONE
BEGIN:VEVENT
UID:4e58cb33f16f35ece119c04e5d340ed6@gruene-bremen.de
URL;VALUE=URI:https://gruene-bremen.de/termine/kloenschnack-bremen-west/
LOCATION:Helga, Helgolander Str. 22, 28217 Bremen
SUMMARY:Klönschnack Bremen-West
DESCRIPTION;ALTREP="data:text/html,%0A%3Cp%3EDer%20Gr%C3%BCne%20KV%20West
 %20l%C3%A4dt%20euch%20herzlich%20ein%2C%20beim%20Kl%C3%B6nschnack%20dabei
 %20zu%20sein%2C%20um%20in%20lockerer%20Atmosph%C3%A4re%20zu%20plaudern%20
 und%20auszutauschen.%20Ob%20ihr%20politische%20Themen%20diskutieren%20ode
 r%20einfach%20Small%20Talk%20machen%20wollt%2C%20spielt%20keine%20Rolle%2
 0%E2%80%93%20alle%20sind%20willkommen%21%20Meldet%20euch%20f%C3%BCr%20ein
 e%20einfache%20Planung%20bitte%20vorab%20unten%20an.%3C%2Fp%3E%0A%0A%0A%0
 A%3Cp%3EWenn%20ihr%20Fragen%20habt%2C%20meldet%20euch%20gerne%20bei%20den
 %20Mitgliederbeauftragten%20unter%20%3Ca%20href%3D%22mailto%3Amitgliederb
 eauftragte%40gruene-bremen-west.de%22%3Emitgliederbeauftragte%40gruene-br
 emen-west.de%3C%2Fa%3E%3C%2Fp%3E%0A%0A%0A":Der Grüne KV West lädt euch 
 herzlich ein\, beim Klönschnack dabei zu sein\, um in lockerer Atmosphä
 re zu plaudern und auszutauschen. Ob ihr politische Themen diskutieren od
 er einfach Small Talk machen wollt\, spielt keine Rolle – alle sind wil
 lkommen! Meldet euch für eine einfache Planung bitte vorab unten an.\n\n
 Wenn ihr Fragen habt\, meldet euch gerne bei den Mitgliederbeauftragten u
 nter mitgliederbeauftragte@gruene-bremen-west.de
CLASS:PUBLIC
DTSTART;TZID=Europe/Berlin:20250422T190000
DTEND;TZID=Europe/Berlin:20250422T200000
DTSTAMP:20260422T105553
END:VEVENT
END:VCALENDAR