BEGIN:VCALENDAR
VERSION:2.0
PRODID:gruene-bremen.de
METHOD:PUBLISH
BEGIN:VTIMEZONE
TZID:Europe/Berlin
X-LIC-LOCATION:Europe/Berlin
BEGIN:DAYLIGHT
TZOFFSETFROM:+0100
TZOFFSETTO:+0200
TZNAME:CEST
DTSTART:19700329T020000
RRULE:FREQ=YEARLY;INTERVAL=1;BYDAY=-1SU;BYMONTH=3
END:DAYLIGHT
BEGIN:STANDARD
TZOFFSETFROM:+0200
TZOFFSETTO:+0100
TZNAME:CET
DTSTART:19701025T030000
RRULE:FREQ=YEARLY;INTERVAL=1;BYDAY=-1SU;BYMONTH=10
END:STANDARD
END:VTIMEZONE
BEGIN:VEVENT
UID:ba90487943c502d73ab2f25a04a09508@gruene-bremen.de
URL;VALUE=URI:https://gruene-bremen.de/termine/kamingespraech-my-body-my-
 choice-schwangerschaftsabbruch-endlich-legalisieren/
LOCATION:Bremer Presse-Club, Schnoor 27, 28195 Bremen
SUMMARY:Kamingespräch „My Body, My Choice“ – Schwangerschaftsabbru
 ch endlich legalisieren!
DESCRIPTION;ALTREP="data:text/html,%0A%3Cp%3ENoch%20immer%20ist%20die%20K
 riminalisierung%20des%20selbstbestimmten%20Schwangerschaftsabbruchs%20in%
 20Deutschland%20Realit%C3%A4t.%20Der%20%C2%A7218%20stellt%20Schwangerscha
 ftsabbr%C3%BCche%20unter%20Strafe%20und%20erschwert%20Hilfen%20f%C3%BCr%2
 0ungewollt%20Schwangere%20und%20ihre%20%C3%84rzt%2Ainnen.%26nbsp%3B%20Die
 s%20ist%20nicht%20nur%20eine%20gravierende%20Einschr%C3%A4nkung%20des%20S
 elbstbestimmungsrechts%20von%20Frauen%2C%20sondern%20auch%20ein%20Hindern
 is%20f%C3%BCr%20eine%20umfassende%20Gesundheitsversorgung.%20In%20Deutsch
 land%20ist%20der%20Zugang%20zu%20Schwangerschaftsabbr%C3%BCchen%20von%20r
 egionalen%20und%20politischen%20Gegebenheiten%20abh%C3%A4ngig%20%E2%80%93
 %20mit%20teils%20drastischen%20Folgen%20f%C3%BCr%20Betroffene%2C%20denn%2
 0der%20Zugang%20zu%20einem%20medizinisch%20sicheren%20Schwangerschaftsabb
 ruch%20ist%20l%C3%A4ngst%20nicht%20%C3%BCberall%20gew%C3%A4hrleistet.%20S
 tatt%20medizinischer%20Versorgung%20erleben%20Schwangere%20h%C3%A4ufig%20
 Stigmatisierung%20und%20H%C3%BCrden.%20W%C3%A4hrend%20andere%20L%C3%A4nde
 r%20den%20Schwangerschaftsabbruch%20l%C3%A4ngst%20als%20Teil%20der%20Gesu
 ndheitsversorgung%20anerkennen%2C%20h%C3%A4lt%20Deutschland%20an%20einer%
 20strafrechtlichen%20Regelung%20aus%20dem%2019.%20Jahrhundert%20fest.%20D
 as%20muss%20sich%20%C3%A4ndern%21%3C%2Fp%3E%0A%0A%0A%0A%3Cp%3EWarum%20ist
 %20der%20%C2%A7218%20ein%20schlechtes%20Gesetz%3F%20Welche%20gesellschaft
 lichen%2C%20ethischen%20und%20gesundheitlichen%20Folgen%20hat%20die%20akt
 uelle%20Regelung%3F%20Wie%20ist%20der%20aktuelle%20Stand%20zur%20gesetzli
 chen%20Neuregelung%20des%20Schwangerschaftsabbruchs%3F%20Und%20wie%20k%C3
 %B6nnte%20eine%20zukunftsf%C3%A4hige%2C%20menschenrechtskonforme%20Gesetz
 gebung%20aussehen%3F%3C%2Fp%3E%0A%0A%0A%0A%3Cp%3E%C3%9Cber%20diese%20Frag
 en%20und%20mehr%20spricht%20%3Cstrong%3EDr.%20Kirsten%20Kappert-Gonther%3
 C%2Fstrong%3E%2C%20Bremer%20Bundestagsabgeordnete%20und%20Gr%C3%BCne%20Sp
 itzen-%20und%20Direktkandidatin%2C%20mit%3A%3C%2Fp%3E%0A%0A%0A%0A%3Cp%3E%
 3Cstrong%3ELea%20Pawlik%20von%20Pro%20Familia%20Bremen%26nbsp%3B%3C%2Fstr
 ong%3E%E2%80%93%20Beratungsstelle%20gem.%20Schwangerschaftskonfliktgesetz
 %3Cbr%3Eund%3C%2Fp%3E%0A%0A%0A%0A%3Cp%3E%3Cstrong%3EMarina%20Mohr%20von%2
 0Cara%3C%2Fstrong%3E%26nbsp%3B%E2%80%93%20Beratungsstelle%20f%C3%BCr%20Sc
 hwangerschaft%20und%20Pr%C3%A4nataldiagnostik%3C%2Fp%3E%0A%0A%0A%0A%3Cp%3
 EDas%20Kamingespr%C3%A4ch%20ist%20ein%20Format%2C%20%C3%A4hnlich%20des%20
 Gr%C3%BCnen%20Salons%2C%20bei%20dem%20wir%20ganz%20unkompliziert%20mitein
 ander%20zu%20wichtigen%20gesellschaftlich%20und%20politischen%20Fragen%20
 ins%20Gespr%C3%A4ch%20kommen.%3C%2Fp%3E%0A%0A%0A%0A%3Cp%3E%3C%2Fp%3E%0A":
 Noch immer ist die Kriminalisierung des selbstbestimmten Schwangerschafts
 abbruchs in Deutschland Realität. Der §218 stellt Schwangerschaftsabbr
 üche unter Strafe und erschwert Hilfen für ungewollt Schwangere und ihr
 e Ärzt*innen.  Dies ist nicht nur eine gravierende Einschränkung des S
 elbstbestimmungsrechts von Frauen\, sondern auch ein Hindernis für eine 
 umfassende Gesundheitsversorgung. In Deutschland ist der Zugang zu Schwan
 gerschaftsabbrüchen von regionalen und politischen Gegebenheiten abhäng
 ig – mit teils drastischen Folgen für Betroffene\, denn der Zugang zu 
 einem medizinisch sicheren Schwangerschaftsabbruch ist längst nicht übe
 rall gewährleistet. Statt medizinischer Versorgung erleben Schwangere h
 äufig Stigmatisierung und Hürden. Während andere Länder den Schwanger
 schaftsabbruch längst als Teil der Gesundheitsversorgung anerkennen\, h
 ält Deutschland an einer strafrechtlichen Regelung aus dem 19. Jahrhunde
 rt fest. Das muss sich ändern!\n\nWarum ist der §218 ein schlechtes Ges
 etz? Welche gesellschaftlichen\, ethischen und gesundheitlichen Folgen ha
 t die aktuelle Regelung? Wie ist der aktuelle Stand zur gesetzlichen Neur
 egelung des Schwangerschaftsabbruchs? Und wie könnte eine zukunftsfähig
 e\, menschenrechtskonforme Gesetzgebung aussehen?\n\nÜber diese Fragen u
 nd mehr spricht Dr. Kirsten Kappert-Gonther\, Bremer Bundestagsabgeordnet
 e und Grüne Spitzen- und Direktkandidatin\, mit:\n\nLea Pawlik von Pro F
 amilia Bremen – Beratungsstelle gem. Schwangerschaftskonfliktgesetzund
 \n\nMarina Mohr von Cara – Beratungsstelle für Schwangerschaft und Pr
 änataldiagnostik\n\nDas Kamingespräch ist ein Format\, ähnlich des Gr
 ünen Salons\, bei dem wir ganz unkompliziert miteinander zu wichtigen ge
 sellschaftlich und politischen Fragen ins Gespräch kommen.
CLASS:PUBLIC
DTSTART;TZID=Europe/Berlin:20250219T190000
DTEND;TZID=Europe/Berlin:20250219T200000
DTSTAMP:20260421T153326
END:VEVENT
END:VCALENDAR