BEGIN:VCALENDAR
VERSION:2.0
PRODID:gruene-bremen.de
METHOD:PUBLISH
BEGIN:VTIMEZONE
TZID:Europe/Berlin
X-LIC-LOCATION:Europe/Berlin
BEGIN:DAYLIGHT
TZOFFSETFROM:+0100
TZOFFSETTO:+0200
TZNAME:CEST
DTSTART:19700329T020000
RRULE:FREQ=YEARLY;INTERVAL=1;BYDAY=-1SU;BYMONTH=3
END:DAYLIGHT
BEGIN:STANDARD
TZOFFSETFROM:+0200
TZOFFSETTO:+0100
TZNAME:CET
DTSTART:19701025T030000
RRULE:FREQ=YEARLY;INTERVAL=1;BYDAY=-1SU;BYMONTH=10
END:STANDARD
END:VTIMEZONE
BEGIN:VEVENT
UID:5bd42411ede410e350f68a87ae2d0bbc@gruene-bremen.de
URL;VALUE=URI:https://gruene-bremen.de/termine/gruene-sprechstunde/
LOCATION:Grüne Landesgeschäftsstelle, Altenwall 25, 28195 Bremen
SUMMARY:Grüne Sprechstunde
DESCRIPTION;ALTREP="data:text/html,%0A%3Cp%3EKommt%20mit%20uns%20ins%20Ge
 spr%C3%A4ch%21%20Offen%20f%C3%BCr%20alle%2C%20Gr%C3%BCne%20oder%20Nichtmi
 tglieder%2C%20ohne%20Anmeldung.%20Diesmal%20mit%20Marek%20Helsner%20und%2
 0Karin%20Mathes%20aus%20dem%20Gr%C3%BCnen%20Landesvorstand.%3C%2Fp%3E%0A%
 0A%0A%0A%3Cp%3E%3C%2Fp%3E%0A":Kommt mit uns ins Gespräch! Offen für all
 e\, Grüne oder Nichtmitglieder\, ohne Anmeldung. Diesmal mit Marek Helsn
 er und Karin Mathes aus dem Grünen Landesvorstand.
CLASS:PUBLIC
DTSTART;TZID=Europe/Berlin:20260205T160000
DTEND;TZID=Europe/Berlin:20260205T180000
DTSTAMP:20260421T065645
END:VEVENT
END:VCALENDAR