BEGIN:VCALENDAR
VERSION:2.0
PRODID:gruene-bremen.de
METHOD:PUBLISH
BEGIN:VTIMEZONE
TZID:Europe/Berlin
X-LIC-LOCATION:Europe/Berlin
BEGIN:DAYLIGHT
TZOFFSETFROM:+0100
TZOFFSETTO:+0200
TZNAME:CEST
DTSTART:19700329T020000
RRULE:FREQ=YEARLY;INTERVAL=1;BYDAY=-1SU;BYMONTH=3
END:DAYLIGHT
BEGIN:STANDARD
TZOFFSETFROM:+0200
TZOFFSETTO:+0100
TZNAME:CET
DTSTART:19701025T030000
RRULE:FREQ=YEARLY;INTERVAL=1;BYDAY=-1SU;BYMONTH=10
END:STANDARD
END:VTIMEZONE
BEGIN:VEVENT
UID:d5ea09a3f41f2b23ee358ccf2b6042a9@gruene-bremen.de
URL;VALUE=URI:https://gruene-bremen.de/termine/csd-bremen-2024/
LOCATION:Treffpunkt Grüne Landesgeschäftsstelle, Altenwall 25, 28195 Br
 emen
SUMMARY:CSD Bremen 2024
DESCRIPTION;ALTREP="data:text/html,%0A%3Cp%3EWas%20wollen%20wir%20denn%20
 noch%3F%20Selbstverst%C3%A4ndlich%20sein%2C%20selbstverst%C3%A4ndlich%20l
 eben%21%3C%2Fp%3E%0A%0A%0A%0A%3Cp%3EBeim%20Christopher%20Street%20Day%20%
 28CSD%29%20steht%20Bremen%20wieder%20ganz%20im%20Zeichen%20des%20Regenbog
 ens%20-%20mit%20tollem%20Rahmenprogramm%20und%20der%20obligatorischen%20D
 emo%20ab%2012%20Uhr.%20Gr%C3%BCner%20Treffpunkt%3A%2011%3A30%20Uhr%20vor%
 20der%20Landesgesch%C3%A4ftsstelle.%20Sei%20dabei%21%3Cbr%3E%3Cstrong%3E%
 3Cbr%3EDu%20hast%20Zeit%20und%20Lust%20beim%20CSD%20mitzuhelfen%3F%3C%2Fs
 trong%3E%20Dann%20trage%20dich%20gerne%20im%20folgenden%20Formular%20ein.
 %20Wir%20werden%20auf%20dich%20zukommen%20und%20dich%20in%20unsere%20Plan
 ung%20mit%20einbeziehen.%20Danke%20daf%C3%BCr%21%3C%2Fp%3E%0A%0A%0A%0A%09
 Hinweis%3A%20F%C3%BCr%20diesen%20Inhalt%20ist%20JavaScript%20erforderlich
 .%0AKeine%20Felder%20gefunden.%3Cdiv%20id%3D%22nf-form-21-cont%22%20class
 %3D%22nf-form-cont%22%20aria-live%3D%22polite%22%20aria-labelledby%3D%22n
 f-form-title-21%22%20aria-describedby%3D%22nf-form-errors-21%22%20role%3D
 %22form%22%3E%0A%0A%20%20%20%20%3Cdiv%20class%3D%22nf-loading-spinner%22%
 3E%3C%2Fdiv%3E%0A%0A%3C%2Fdiv%3E%0A%20%20%20%20%20%20%20%20%3C%21--%20Tha
 t%20data%20is%20being%20printed%20as%20a%20workaround%20to%20page%20build
 ers%20reordering%20the%20order%20of%20the%20scripts%20loaded--%3E%0A%20%2
 0%20%20%20%20%20%20var%20formDisplay%3D1%3Bvar%20nfForms%3DnfForms%7C%7C%
 5B%5D%3Bvar%20form%3D%5B%5D%3Bform.id%3D%2721%27%3Bform.settings%3D%7B%22
 ninjaForms%22%3A%22Ninja%20Forms%22%2C%22changeEmailErrorMsg%22%3A%22Bitt
 e%20gib%20eine%20g%5Cu00fcltige%20E-Mail-Adresse%20ein.%22%2C%22changeDat
 eErrorMsg%22%3A%22Bitte%20gib%20ein%20g%5Cu00fcltiges%20Datum%20ein%21%22
 %2C%22confirmFieldErrorMsg%22%3A%22Diese%20Felder%20m%5Cu00fcssen%20%5Cu0
 0fcbereinstimmen%21%22%2C%22fieldNumberNumMinError%22%3A%22Die%20eingegeb
 ene%20Zahl%20ist%20zu%20klein.%22%2C%22fieldNumberNumMaxError%22%3A%22Die
 %20eingegebene%20Zahl%20ist%20zu%20gross.%22%2C%22fieldNumberIncrementBy%
 22%3A%22Bitte%20erh%5Cu00f6hen%20in%20Schritten%20von%22%2C%22fieldTextar
 eaRTEInsertLink%22%3A%22Link%20einf%5Cu00fcgen%22%2C%22fieldTextareaRTEIn
 sertMedia%22%3A%22Medien%20einf%5Cu00fcgen%22%2C%22fieldTextareaRTESelect
 AFile%22%3A%22Eine%20Datei%20ausw%5Cu00e4hlen%22%2C%22formErrorsCorrectEr
 rors%22%3A%22Bitte%20korrigiere%20die%20Fehler%2C%20bevor%20du%20das%20Fo
 rmular%20sendest.%22%2C%22formHoneypot%22%3A%22Falls%20du%20ein%20Mensch%
 20bist%20und%20dieses%20Feld%20siehst%2C%20dann%20lasse%20es%20bitte%20le
 er.%22%2C%22validateRequiredField%22%3A%22Dies%20ist%20ein%20Pflichtfeld.
 %22%2C%22honeypotHoneypotError%22%3A%22Honeypot-Fehler%22%2C%22fileUpload
 OldCodeFileUploadInProgress%22%3A%22Datei-Upload%20l%5Cu00e4uft.%22%2C%22
 fileUploadOldCodeFileUpload%22%3A%22DATEI-UPLOAD%22%2C%22currencySymbol%2
 2%3A%22%26euro%3B%22%2C%22fieldsMarkedRequired%22%3A%22Felder%20mit%20ein
 em%20%3Cspan%20class%3D%22ninja-forms-req-symbol%22%3E%2A%20sind%20Pflich
 tfelder%22%2C%22thousands_sep%22%3A%22.%22%2C%22decimal_point%22%3A%22%2C
 %22%2C%22siteLocale%22%3A%22de_DE%22%2C%22dateFormat%22%3A%22m%5C%2Fd%5C%
 2FY%22%2C%22startOfWeek%22%3A%221%22%2C%22of%22%3A%22von%22%2C%22previous
 Month%22%3A%22Vorheriger%20Monat%22%2C%22nextMonth%22%3A%22N%5Cu00e4chste
 r%20Monat%22%2C%22months%22%3A%5B%22Januar%22%2C%22Februar%22%2C%22M%5Cu0
 0e4rz%22%2C%22April%22%2C%22Mai%22%2C%22Juni%22%2C%22Juli%22%2C%22August%
 22%2C%22September%22%2C%22Oktober%22%2C%22November%22%2C%22Dezember%22%5D
 %2C%22monthsShort%22%3A%5B%22Jan.%22%2C%22Feb.%22%2C%22M%5Cu00e4rz%22%2C%
 22Apr.%22%2C%22Mai%22%2C%22Juni%22%2C%22Juli%22%2C%22Aug%22%2C%22Sep.%22%
 2C%22Okt.%22%2C%22Nov.%22%2C%22Dez.%22%5D%2C%22weekdays%22%3A%5B%22Sonnta
 g%22%2C%22Montag%22%2C%22Dienstag%22%2C%22Mittwoch%22%2C%22Donnerstag%22%
 2C%22Freitag%22%2C%22Samstag%22%5D%2C%22weekdaysShort%22%3A%5B%22So.%22%2
 C%22Mo.%22%2C%22Di.%22%2C%22Mi.%22%2C%22Do.%22%2C%22Fr.%22%2C%22Sa.%22%5D
 %2C%22weekdaysMin%22%3A%5B%22So.%22%2C%22Mo.%22%2C%22Di.%22%2C%22Mi.%22%2
 C%22Do.%22%2C%22Fr.%22%2C%22Sa.%22%5D%2C%22recaptchaConsentMissing%22%3A%
 22reCaptcha%20validation%20couldn%26%23039%3Bt%20load.%22%2C%22recaptchaM
 issingCookie%22%3A%22reCaptcha%20v3%20validation%20couldn%26%23039%3Bt%20
 load%20the%20cookie%20needed%20to%20submit%20the%20form.%22%2C%22recaptch
 aConsentEvent%22%3A%22Accept%20reCaptcha%20cookies%20before%20sending%20t
 he%20form.%22%2C%22embed_form%22%3A%22%22%2C%22currency_symbol%22%3A%22%2
 2%2C%22title%22%3A%22%22%2C%22beforeForm%22%3A%22%22%2C%22beforeFields%22
 %3A%22%22%2C%22afterFields%22%3A%22%22%2C%22afterForm%22%3A%22%22%7D%3Bfo
 rm.fields%3D%5B%5D%3BnfForms.push%28form%29%3B%0A%20%20%20%20%20%20%20%20
 ":Was wollen wir denn noch? Selbstverständlich sein\, selbstverständlic
 h leben!\n\nBeim Christopher Street Day (CSD) steht Bremen wieder ganz im
  Zeichen des Regenbogens - mit tollem Rahmenprogramm und der obligatorisc
 hen Demo ab 12 Uhr. Grüner Treffpunkt: 11:30 Uhr vor der Landesgeschäft
 sstelle. Sei dabei!Du hast Zeit und Lust beim CSD mitzuhelfen? Dann trage
  dich gerne im folgenden Formular ein. Wir werden auf dich zukommen und d
 ich in unsere Planung mit einbeziehen. Danke dafür!\n\n	Hinweis: Für di
 esen Inhalt ist JavaScript erforderlich.\n\nKeine Felder gefunden.\n\n   
      var formDisplay=1\;var nfForms=nfForms||[]\;var form=[]\;form.id='21
 '\;form.settings={"ninjaForms":"Ninja Forms"\,"changeEmailErrorMsg":"Bitt
 e gib eine g\\u00fcltige E-Mail-Adresse ein."\,"changeDateErrorMsg":"Bitt
 e gib ein g\\u00fcltiges Datum ein!"\,"confirmFieldErrorMsg":"Diese Felde
 r m\\u00fcssen \\u00fcbereinstimmen!"\,"fieldNumberNumMinError":"Die eing
 egebene Zahl ist zu klein."\,"fieldNumberNumMaxError":"Die eingegebene Za
 hl ist zu gross."\,"fieldNumberIncrementBy":"Bitte erh\\u00f6hen in Schri
 tten von"\,"fieldTextareaRTEInsertLink":"Link einf\\u00fcgen"\,"fieldText
 areaRTEInsertMedia":"Medien einf\\u00fcgen"\,"fieldTextareaRTESelectAFile
 ":"Eine Datei ausw\\u00e4hlen"\,"formErrorsCorrectErrors":"Bitte korrigie
 re die Fehler\, bevor du das Formular sendest."\,"formHoneypot":"Falls du
  ein Mensch bist und dieses Feld siehst\, dann lasse es bitte leer."\,"va
 lidateRequiredField":"Dies ist ein Pflichtfeld."\,"honeypotHoneypotError"
 :"Honeypot-Fehler"\,"fileUploadOldCodeFileUploadInProgress":"Datei-Upload
  l\\u00e4uft."\,"fileUploadOldCodeFileUpload":"DATEI-UPLOAD"\,"currencySy
 mbol":"€"\,"fieldsMarkedRequired":"Felder mit einem * sind Pflichtfelde
 r"\,"thousands_sep":"."\,"decimal_point":"\,"\,"siteLocale":"de_DE"\,"dat
 eFormat":"m\\/d\\/Y"\,"startOfWeek":"1"\,"of":"von"\,"previousMonth":"Vor
 heriger Monat"\,"nextMonth":"N\\u00e4chster Monat"\,"months":["Januar"\,"
 Februar"\,"M\\u00e4rz"\,"April"\,"Mai"\,"Juni"\,"Juli"\,"August"\,"Septem
 ber"\,"Oktober"\,"November"\,"Dezember"]\,"monthsShort":["Jan."\,"Feb."\,
 "M\\u00e4rz"\,"Apr."\,"Mai"\,"Juni"\,"Juli"\,"Aug"\,"Sep."\,"Okt."\,"Nov.
 "\,"Dez."]\,"weekdays":["Sonntag"\,"Montag"\,"Dienstag"\,"Mittwoch"\,"Don
 nerstag"\,"Freitag"\,"Samstag"]\,"weekdaysShort":["So."\,"Mo."\,"Di."\,"M
 i."\,"Do."\,"Fr."\,"Sa."]\,"weekdaysMin":["So."\,"Mo."\,"Di."\,"Mi."\,"Do
 ."\,"Fr."\,"Sa."]\,"recaptchaConsentMissing":"reCaptcha validation couldn
 't load."\,"recaptchaMissingCookie":"reCaptcha v3 validation couldn't loa
 d the cookie needed to submit the form."\,"recaptchaConsentEvent":"Accept
  reCaptcha cookies before sending the form."\,"embed_form":""\,"currency_
 symbol":""\,"title":""\,"beforeForm":""\,"beforeFields":""\,"afterFields"
 :""\,"afterForm":""}\;form.fields=[]\;nfForms.push(form)\;
CLASS:PUBLIC
DTSTART;TZID=Europe/Berlin:20240824T113000
DTEND;TZID=Europe/Berlin:20240824T123000
DTSTAMP:20260421T165557
END:VEVENT
END:VCALENDAR