BEGIN:VCALENDAR
VERSION:2.0
PRODID:gruene-bremen.de
METHOD:PUBLISH
BEGIN:VTIMEZONE
TZID:Europe/Berlin
X-LIC-LOCATION:Europe/Berlin
BEGIN:DAYLIGHT
TZOFFSETFROM:+0100
TZOFFSETTO:+0200
TZNAME:CEST
DTSTART:19700329T020000
RRULE:FREQ=YEARLY;INTERVAL=1;BYDAY=-1SU;BYMONTH=3
END:DAYLIGHT
BEGIN:STANDARD
TZOFFSETFROM:+0200
TZOFFSETTO:+0100
TZNAME:CET
DTSTART:19701025T030000
RRULE:FREQ=YEARLY;INTERVAL=1;BYDAY=-1SU;BYMONTH=10
END:STANDARD
END:VTIMEZONE
BEGIN:VEVENT
UID:e6388b2bae8bf14daa7acdd976c1a369@gruene-bremen.de
URL;VALUE=URI:https://gruene-bremen.de/termine/bundesdelegiertenkonferenz
 /
LOCATION:City Cube, Messedamm 26, 14055
SUMMARY:Bundesdelegiertenkonferenz
DESCRIPTION;ALTREP="data:text/html,%0A%3Cp%3EMit%20Robert%20haben%20wir%2
 0auf%20der%20November-BDK%20einen%20starken%20Kandidaten%20f%C3%BCr%20die
 %20Menschen%20im%20Land%20gew%C3%A4hlt.%20Im%20Spitzenduo%20mit%20Annalen
 a%20ziehen%20wir%20in%20diesen%20Winterwahlkampf%2C%20um%20die%20Herzen%2
 0und%20K%C3%B6pfe%20der%20Menschen%20zu%20gewinnen.%20T%C3%A4glich%20erre
 ichen%20uns%20Hunderte%20Neumitgliederantr%C3%A4ge.%20Wir%20sind%20so%20v
 iele%20und%20so%20stark%20wie%20nie%20zuvor%2C%20das%20gibt%20uns%20R%C3%
 BCckenwind.%20Bei%20dieser%20au%C3%9Ferordentlichen%20BDK%20geht%20es%20u
 m%20die%20Beratung%20und%20den%20Beschluss%20des%20Bundestagswahlprogramm
 s.%20Gemeinsam%20machen%20wir%20den%20B%C3%BCrger%2Ainnen%20ein%20starkes
 %20Angebot%2C%20wie%20wir%20die%20Sorgen%20von%20heute%20angehen%20und%20
 eine%20sichere%20Zukunft%20f%C3%BCr%20alle%20schaffen.%3C%2Fp%3E%0A%0A%0A
 %0A%3Cp%3EDen%20Vorschlag%20zur%20Tagesordnung%20findet%20ihr%20hier%3A%2
 0%3Ca%20href%3D%22https%3A%2F%2Fantraege.gruene.de%2Faobdk2025%2Fvorschla
 g-zur-tagesordnung-7840%22%3Ehttps%3A%2F%2Fantraege.gruene.de%2Faobdk2025
 %2Fvorschlag-zur-tagesordnung-7840%3C%2Fa%3E%3Cbr%3E%3Cbr%3E%3C%2Fp%3E%0A
 ":Mit Robert haben wir auf der November-BDK einen starken Kandidaten für
  die Menschen im Land gewählt. Im Spitzenduo mit Annalena ziehen wir in 
 diesen Winterwahlkampf\, um die Herzen und Köpfe der Menschen zu gewinne
 n. Täglich erreichen uns Hunderte Neumitgliederanträge. Wir sind so vie
 le und so stark wie nie zuvor\, das gibt uns Rückenwind. Bei dieser auß
 erordentlichen BDK geht es um die Beratung und den Beschluss des Bundesta
 gswahlprogramms. Gemeinsam machen wir den Bürger*innen ein starkes Angeb
 ot\, wie wir die Sorgen von heute angehen und eine sichere Zukunft für a
 lle schaffen.\n\nDen Vorschlag zur Tagesordnung findet ihr hier: https://
 antraege.gruene.de/aobdk2025/vorschlag-zur-tagesordnung-7840
CLASS:PUBLIC
DTSTART;TZID=Europe/Berlin:20250126T090000
DTEND;TZID=Europe/Berlin:20250126T170000
DTSTAMP:20260424T205345
END:VEVENT
END:VCALENDAR