BEGIN:VCALENDAR
VERSION:2.0
PRODID:gruene-bremen.de
METHOD:PUBLISH
BEGIN:VTIMEZONE
TZID:Europe/Berlin
X-LIC-LOCATION:Europe/Berlin
BEGIN:DAYLIGHT
TZOFFSETFROM:+0100
TZOFFSETTO:+0200
TZNAME:CEST
DTSTART:19700329T020000
RRULE:FREQ=YEARLY;INTERVAL=1;BYDAY=-1SU;BYMONTH=3
END:DAYLIGHT
BEGIN:STANDARD
TZOFFSETFROM:+0200
TZOFFSETTO:+0100
TZNAME:CET
DTSTART:19701025T030000
RRULE:FREQ=YEARLY;INTERVAL=1;BYDAY=-1SU;BYMONTH=10
END:STANDARD
END:VTIMEZONE
BEGIN:VEVENT
UID:ec4c02b51a6bf40fff986109064aa326@gruene-bremen.de
URL;VALUE=URI:https://gruene-bremen.de/termine/7-aktuelle-stunde/
LOCATION:Digital
SUMMARY:7. Aktuelle Stunde
DESCRIPTION;ALTREP="data:text/html,%0A%3Cp%3EWir%20freuen%20uns%20auf%20s
 iebte%20Aktuelle%20Stunde%20mit%20euch.%3C%2Fp%3E%0A%0A%0A%0A%3Cp%3EAn%20
 diesem%20Abend%20werden%20wir%20aus%20der%20Arbeit%20des%20Landesvorstand
 s%20und%20der%20Fraktion%20berichten%2C%20sowie%20gemeinsam%20ein%20Thema
 %20diskutieren.%3C%2Fp%3E%0A%0A%0A%0A%3Cp%3E%C3%9Cber%20das%20Kontaktform
 ular%20am%20Ende%20der%20Seite%20k%C3%B6nnt%20ihr%20Themenvorschl%C3%A4ge
 %20einbringen.%20Dabei%20wollen%20wir%20besonders%20landesspezifische%20T
 hemen%20in%20den%20Blick%20nehmen%2C%20k%C3%B6nnen%20bei%20Bedarf%20aber%
 20auch%20%C3%BCber%20bundesweite%20Entwicklungen%20sprechen%2C%20um%20dab
 ei%20einen%20Eindruck%20zur%20Position%20unseres%20Landesverbands%20zu%20
 entwickeln.%3C%2Fp%3E%0A%0A%0A%0A%3Cp%3EDen%20Link%20zur%20Videokonferenz
 %20und%20das%20finale%20Thema%20verschicken%20wir%20an%20alle%20unsere%20
 Mitglieder%20am%20Dienstag%20vor%20der%20Veranstaltung%20und%20stellen%20
 euch%20beides%20rechtzeitig%20im%20Gr%C3%BCnen%20Netz%20zur%20Verf%C3%BCg
 ung%3A%20%3Ca%20href%3D%22https%3A%2F%2Fnetz.gruene.de%2Fde%2Faktuelles%2
 F2026-03%2Fsiebte-aktuelle-stunde-am-freitag-v-leute-einsatz-bremen-wie-s
 tehen-wir-zum%22%3Ehttps%3A%2F%2Fnetz.gruene.de%2Fde%2Faktuelles%2F2026-0
 3%2Fsiebte-aktuelle-stunde-am-freitag-v-leute-einsatz-bremen-wie-stehen-w
 ir-zum%3C%2Fa%3E%3C%2Fp%3E%0A%0A%0A%0A%3Cp%3EEs%20handelt%20sich%20um%20e
 in%20Angebot%2C%20das%20sich%20ausschlie%C3%9Flich%20an%20Gr%C3%BCne%20Mi
 tglieder%20richtet.%3C%2Fp%3E%0A":Wir freuen uns auf siebte Aktuelle Stun
 de mit euch.\n\nAn diesem Abend werden wir aus der Arbeit des Landesvorst
 ands und der Fraktion berichten\, sowie gemeinsam ein Thema diskutieren.\
 n\nÜber das Kontaktformular am Ende der Seite könnt ihr Themenvorschlä
 ge einbringen. Dabei wollen wir besonders landesspezifische Themen in den
  Blick nehmen\, können bei Bedarf aber auch über bundesweite Entwicklun
 gen sprechen\, um dabei einen Eindruck zur Position unseres Landesverband
 s zu entwickeln.\n\nDen Link zur Videokonferenz und das finale Thema vers
 chicken wir an alle unsere Mitglieder am Dienstag vor der Veranstaltung u
 nd stellen euch beides rechtzeitig im Grünen Netz zur Verfügung: https:
 //netz.gruene.de/de/aktuelles/2026-03/siebte-aktuelle-stunde-am-freitag-v
 -leute-einsatz-bremen-wie-stehen-wir-zum\n\nEs handelt sich um ein Angebo
 t\, das sich ausschließlich an Grüne Mitglieder richtet.
CLASS:PUBLIC
DTSTART;TZID=Europe/Berlin:20260306T170000
DTEND;TZID=Europe/Berlin:20260306T190000
DTSTAMP:20260421T065835
END:VEVENT
END:VCALENDAR